BEGIN:VCALENDAR
VERSION:2.0
PRODID:-//Thursford Parish Council//Meeting Calendar//EN
CALSCALE:GREGORIAN
METHOD:PUBLISH
BEGIN:VEVENT
UID:70535-20230306@thursfordparish.gov.uk
DTSTAMP:20260422T083259Z
DTSTART;VALUE=DATE:20230306
DTEND;VALUE=DATE:20230307
SUMMARY:Annual Parish Council Meeting – 6 March 2023
DESCRIPTION:Annual Parish Council Meeting\nView details: https://thursfordparish.gov.uk/meetings/annual-parish-council-meeting-6-march-2023/
URL:https://thursfordparish.gov.uk/meetings/annual-parish-council-meeting-6-march-2023/
END:VEVENT
END:VCALENDAR
